BEGIN:VCALENDAR
VERSION:2.0
PRODID:-//Stedinger Fischereiverein Berne e.V. - ECPv6.15.20//NONSGML v1.0//EN
CALSCALE:GREGORIAN
METHOD:PUBLISH
X-ORIGINAL-URL:https://sfv-berne.de
X-WR-CALDESC:Veranstaltungen für Stedinger Fischereiverein Berne e.V.
REFRESH-INTERVAL;VALUE=DURATION:PT1H
X-Robots-Tag:noindex
X-PUBLISHED-TTL:PT1H
BEGIN:VTIMEZONE
TZID:Europe/Berlin
BEGIN:DAYLIGHT
TZOFFSETFROM:+0100
TZOFFSETTO:+0200
TZNAME:CEST
DTSTART:20250330T010000
END:DAYLIGHT
BEGIN:STANDARD
TZOFFSETFROM:+0200
TZOFFSETTO:+0100
TZNAME:CET
DTSTART:20251026T010000
END:STANDARD
BEGIN:DAYLIGHT
TZOFFSETFROM:+0100
TZOFFSETTO:+0200
TZNAME:CEST
DTSTART:20260329T010000
END:DAYLIGHT
BEGIN:STANDARD
TZOFFSETFROM:+0200
TZOFFSETTO:+0100
TZNAME:CET
DTSTART:20261025T010000
END:STANDARD
BEGIN:DAYLIGHT
TZOFFSETFROM:+0100
TZOFFSETTO:+0200
TZNAME:CEST
DTSTART:20270328T010000
END:DAYLIGHT
BEGIN:STANDARD
TZOFFSETFROM:+0200
TZOFFSETTO:+0100
TZNAME:CET
DTSTART:20271031T010000
END:STANDARD
END:VTIMEZONE
BEGIN:VEVENT
DTSTART;TZID=Europe/Berlin:20260503T080000
DTEND;TZID=Europe/Berlin:20260503T080000
DTSTAMP:20260423T072649
CREATED:20250113T090306Z
LAST-MODIFIED:20260211T102506Z
UID:1048-1777795200-1777795200@sfv-berne.de
SUMMARY:Angeln am Teich Berne (Martens)
DESCRIPTION:Zusätzlicher Besatz mit Forellen. \nBeitrag 5\,-€
URL:https://sfv-berne.de/termin/angeln-am-teich-berne-martens/
LOCATION:Niedersachsen
END:VEVENT
BEGIN:VEVENT
DTSTART;TZID=Europe/Berlin:20260510T080000
DTEND;TZID=Europe/Berlin:20260510T080000
DTSTAMP:20260423T072649
CREATED:20250113T092125Z
LAST-MODIFIED:20260211T102548Z
UID:1051-1778400000-1778400000@sfv-berne.de
SUMMARY:Angeln am Teich Berne (Martens)
DESCRIPTION:Beitrag 5\,-€
URL:https://sfv-berne.de/termin/angeln-am-teich-berne-martens-2/
LOCATION:Niedersachsen
END:VEVENT
BEGIN:VEVENT
DTSTART;TZID=Europe/Berlin:20260523T080000
DTEND;TZID=Europe/Berlin:20260523T080000
DTSTAMP:20260423T072649
CREATED:20250113T085341Z
LAST-MODIFIED:20260211T103041Z
UID:1042-1779523200-1779523200@sfv-berne.de
SUMMARY:Arbeitsdienst mit Frühstück
DESCRIPTION:Treffen am Vereinsheim. Weitere Infos bei Anmeldung.
URL:https://sfv-berne.de/termin/arbeitsdienst-mit-fruehstueck/
LOCATION:Vereinsheim
END:VEVENT
BEGIN:VEVENT
DTSTART;TZID=Europe/Berlin:20260607T100000
DTEND;TZID=Europe/Berlin:20260607T140000
DTSTAMP:20260423T072649
CREATED:20250113T093827Z
LAST-MODIFIED:20260211T103441Z
UID:1055-1780826400-1780840800@sfv-berne.de
SUMMARY:Klönschnack bei Bratwurst und Bier
DESCRIPTION:Gegen freiwillige Spende.
URL:https://sfv-berne.de/termin/kloenschnack-bei-bratwurst-und-bier/
LOCATION:Vereinsheim
END:VEVENT
BEGIN:VEVENT
DTSTART;TZID=Europe/Berlin:20260613T080000
DTEND;TZID=Europe/Berlin:20260613T080000
DTSTAMP:20260423T072649
CREATED:20250113T094403Z
LAST-MODIFIED:20260211T103618Z
UID:1057-1781337600-1781337600@sfv-berne.de
SUMMARY:Arbeitsdienst mit Frühstück
DESCRIPTION:Treffen am Vereinsheim. Weitere Infos bei Anmeldung.
URL:https://sfv-berne.de/termin/arbeitsdienst-mit-fruehstueck-3/
LOCATION:Vereinsheim
END:VEVENT
BEGIN:VEVENT
DTSTART;TZID=Europe/Berlin:20260712T110000
DTEND;TZID=Europe/Berlin:20260712T110000
DTSTAMP:20260423T072649
CREATED:20250113T094535Z
LAST-MODIFIED:20260211T103554Z
UID:1059-1783854000-1783854000@sfv-berne.de
SUMMARY:Sommerfest beim Vereinheim
DESCRIPTION:Wir grillen was vom Schwein.
URL:https://sfv-berne.de/termin/sommerfest-beim-vereinheim/
LOCATION:Vereinsheim
END:VEVENT
BEGIN:VEVENT
DTSTART;TZID=Europe/Berlin:20260809T070000
DTEND;TZID=Europe/Berlin:20260809T070000
DTSTAMP:20260423T072649
CREATED:20260211T103922Z
LAST-MODIFIED:20260211T105008Z
UID:1563-1786258800-1786258800@sfv-berne.de
SUMMARY:Angeln am Doorgraben West / Motzener Kanal
DESCRIPTION:
URL:https://sfv-berne.de/termin/angeln-am-doorgraben-west-motzener-kanal/
LOCATION:Motzener Kanal\, Berne\, Niedersachsen\, 27804
END:VEVENT
BEGIN:VEVENT
DTSTART;TZID=Europe/Berlin:20260913T080000
DTEND;TZID=Europe/Berlin:20260913T080000
DTSTAMP:20260423T072649
CREATED:20250113T105821Z
LAST-MODIFIED:20260211T103705Z
UID:1069-1789286400-1789286400@sfv-berne.de
SUMMARY:Angeln am Teich Berne (Martens)
DESCRIPTION:
URL:https://sfv-berne.de/termin/angeln-am-teich-berne-martens-3/
LOCATION:Niedersachsen
END:VEVENT
BEGIN:VEVENT
DTSTART;TZID=Europe/Berlin:20261025T070000
DTEND;TZID=Europe/Berlin:20261025T070000
DTSTAMP:20260423T072649
CREATED:20250121T082755Z
LAST-MODIFIED:20260211T103809Z
UID:1087-1792911600-1792911600@sfv-berne.de
SUMMARY:Raubfischangeln im Motzener Kanal
DESCRIPTION:5\,-€ Beitrag für Mittag und Getränke.
URL:https://sfv-berne.de/termin/raubfischangeln-im-motzener-kanal/
LOCATION:Motzener Kanal\, Berne\, Niedersachsen\, 27804
END:VEVENT
END:VCALENDAR